BEGIN:VCALENDAR
VERSION:2.0
PRODID:-//SCOT - ECPv6.15.11//NONSGML v1.0//EN
CALSCALE:GREGORIAN
METHOD:PUBLISH
X-ORIGINAL-URL:https://swiss-cot.ch/?lang=en
X-WR-CALDESC:Events for SCOT
REFRESH-INTERVAL;VALUE=DURATION:PT1H
X-Robots-Tag:noindex
X-PUBLISHED-TTL:PT1H
BEGIN:VTIMEZONE
TZID:Europe/Zurich
BEGIN:DAYLIGHT
TZOFFSETFROM:+0100
TZOFFSETTO:+0200
TZNAME:CEST
DTSTART:20230326T010000
END:DAYLIGHT
BEGIN:STANDARD
TZOFFSETFROM:+0200
TZOFFSETTO:+0100
TZNAME:CET
DTSTART:20231029T010000
END:STANDARD
BEGIN:DAYLIGHT
TZOFFSETFROM:+0100
TZOFFSETTO:+0200
TZNAME:CEST
DTSTART:20240331T010000
END:DAYLIGHT
BEGIN:STANDARD
TZOFFSETFROM:+0200
TZOFFSETTO:+0100
TZNAME:CET
DTSTART:20241027T010000
END:STANDARD
BEGIN:DAYLIGHT
TZOFFSETFROM:+0100
TZOFFSETTO:+0200
TZNAME:CEST
DTSTART:20250330T010000
END:DAYLIGHT
BEGIN:STANDARD
TZOFFSETFROM:+0200
TZOFFSETTO:+0100
TZNAME:CET
DTSTART:20251026T010000
END:STANDARD
END:VTIMEZONE
BEGIN:VEVENT
DTSTART;TZID=Europe/Zurich:20241026T090000
DTEND;TZID=Europe/Zurich:20241026T151500
DTSTAMP:20260423T072542
CREATED:20240323T114109Z
LAST-MODIFIED:20240906T113102Z
UID:1249-1729933200-1729955700@swiss-cot.ch
SUMMARY:4th SCOT-Symposium
DESCRIPTION:For the fourth time\, we are organizing the SCOT Symposium\, which will take place on Saturday\, October 26\, 2024\, at the Technopark in Zurich. The morning session of the symposium will focus on the topics of pregnancy and heart diseases\, EPA-based learning\, an exciting ECHO quiz\, and a flash talk on the “History of Medicine.”In the afternoon\, three workshops will be held in smaller groups under the theme “Fit for the Exam – Fit for Practice.” These case-based training sessions will cover the following topics: cardiomyopathy\, echocardiographic evaluation of valve prostheses\, and a hands-on session on electrophysiology – ablation catheters.     \nHere is the detailed program: SCOT_Symposium 2024\n The course is designed for cardiology residents\, senior cardiologists\, and practicing cardiologists. Register now to secure your spot\, as the number of participants is limited.   \nRegistration here: https://www.herznetz.ch/aktuelles/veranstaltungen/scot-symposium-2024.html\nCost: Morning session CHF 20 / Full day CHF 50\, including a small lunch packageCredits: The symposium is accredited with 6 creditsCourse language: German
URL:https://swiss-cot.ch/event/4-scot-symposium/?lang=en
LOCATION:TECHNOPARK® Zurich\, Technoparkstrasse 1\, Zurich\, 8005\, Schweiz
ATTACH;FMTTYPE=image/jpeg:https://swiss-cot.ch/wp-content/uploads/2022/05/kenny-eliason-MEbT27ZrtdE-unsplash-scaled-e1651562219842.jpg
ORGANIZER;CN="Swiss cardiologists of tomorrow":MAILTO:scot@swisscardio.ch
END:VEVENT
END:VCALENDAR