BEGIN:VCALENDAR
VERSION:2.0
PRODID:-//SCOT - ECPv6.15.11//NONSGML v1.0//EN
CALSCALE:GREGORIAN
METHOD:PUBLISH
X-ORIGINAL-URL:https://swiss-cot.ch/?lang=en
X-WR-CALDESC:Events for SCOT
REFRESH-INTERVAL;VALUE=DURATION:PT1H
X-Robots-Tag:noindex
X-PUBLISHED-TTL:PT1H
BEGIN:VTIMEZONE
TZID:Europe/Zurich
BEGIN:DAYLIGHT
TZOFFSETFROM:+0100
TZOFFSETTO:+0200
TZNAME:CEST
DTSTART:20230326T010000
END:DAYLIGHT
BEGIN:STANDARD
TZOFFSETFROM:+0200
TZOFFSETTO:+0100
TZNAME:CET
DTSTART:20231029T010000
END:STANDARD
BEGIN:DAYLIGHT
TZOFFSETFROM:+0100
TZOFFSETTO:+0200
TZNAME:CEST
DTSTART:20240331T010000
END:DAYLIGHT
BEGIN:STANDARD
TZOFFSETFROM:+0200
TZOFFSETTO:+0100
TZNAME:CET
DTSTART:20241027T010000
END:STANDARD
BEGIN:DAYLIGHT
TZOFFSETFROM:+0100
TZOFFSETTO:+0200
TZNAME:CEST
DTSTART:20250330T010000
END:DAYLIGHT
BEGIN:STANDARD
TZOFFSETFROM:+0200
TZOFFSETTO:+0100
TZNAME:CET
DTSTART:20251026T010000
END:STANDARD
END:VTIMEZONE
BEGIN:VEVENT
DTSTART;TZID=Europe/Zurich:20240328T090000
DTEND;TZID=Europe/Zurich:20240328T173000
DTSTAMP:20260423T224219
CREATED:20240129T060948Z
LAST-MODIFIED:20240129T060948Z
UID:1284-1711616400-1711647000@swiss-cot.ch
SUMMARY:Workshop to Critically Appraise Published Clinical Studies
DESCRIPTION:
URL:https://swiss-cot.ch/event/workshop-to-critically-appraise-published-clinical-studies/?lang=en
LOCATION:University of Zurich\, Rämistrasse 71\, Zürich\, 8006\, Schweiz
ATTACH;FMTTYPE=image/png:https://swiss-cot.ch/wp-content/uploads/2024/01/Wissenschaft4.png
END:VEVENT
END:VCALENDAR