BEGIN:VCALENDAR
VERSION:2.0
PRODID:-//SCOT - ECPv6.15.11//NONSGML v1.0//EN
CALSCALE:GREGORIAN
METHOD:PUBLISH
X-WR-CALNAME:SCOT
X-ORIGINAL-URL:https://swiss-cot.ch/?lang=en
X-WR-CALDESC:Events for SCOT
REFRESH-INTERVAL;VALUE=DURATION:PT1H
X-Robots-Tag:noindex
X-PUBLISHED-TTL:PT1H
BEGIN:VTIMEZONE
TZID:Europe/Zurich
BEGIN:DAYLIGHT
TZOFFSETFROM:+0100
TZOFFSETTO:+0200
TZNAME:CEST
DTSTART:20230326T010000
END:DAYLIGHT
BEGIN:STANDARD
TZOFFSETFROM:+0200
TZOFFSETTO:+0100
TZNAME:CET
DTSTART:20231029T010000
END:STANDARD
BEGIN:DAYLIGHT
TZOFFSETFROM:+0100
TZOFFSETTO:+0200
TZNAME:CEST
DTSTART:20240331T010000
END:DAYLIGHT
BEGIN:STANDARD
TZOFFSETFROM:+0200
TZOFFSETTO:+0100
TZNAME:CET
DTSTART:20241027T010000
END:STANDARD
BEGIN:DAYLIGHT
TZOFFSETFROM:+0100
TZOFFSETTO:+0200
TZNAME:CEST
DTSTART:20250330T010000
END:DAYLIGHT
BEGIN:STANDARD
TZOFFSETFROM:+0200
TZOFFSETTO:+0100
TZNAME:CET
DTSTART:20251026T010000
END:STANDARD
END:VTIMEZONE
BEGIN:VEVENT
DTSTART;VALUE=DATE:20241102
DTEND;VALUE=DATE:20241103
DTSTAMP:20260421T005248
CREATED:20240702T154933Z
LAST-MODIFIED:20240703T122813Z
UID:1418-1730505600-1730591999@swiss-cot.ch
SUMMARY:Cardiology Review
DESCRIPTION:Preparation Course for the Practical-Oral Examination in November 2024 for All Cardiology Residents (Course Language: German).\nFurther details about the program and venue will be provided after the summer break.\n\n\nPlease register via email at (maximum 50 participants):\nkim.strahm@stadtspital.ch or alain.bernheim@stadtspital.ch
URL:https://swiss-cot.ch/event/cardiology-review/?lang=en
LOCATION:Stadtspital Triemli in Zürich\, Birmensdorferstrasse 497\, Zürich\, 8063\, Schweiz
ATTACH;FMTTYPE=image/jpeg:https://swiss-cot.ch/wp-content/uploads/2023/08/mateo-hernandez-reyes-YgY1ITp8PMM-unsplash-1-scaled.jpg
END:VEVENT
END:VCALENDAR